BEGIN:VCALENDAR
VERSION:2.0
PRODID:-//Radio Comercio - ECPv6.15.20//NONSGML v1.0//EN
CALSCALE:GREGORIAN
METHOD:PUBLISH
X-ORIGINAL-URL:https://radiocomercio.com
X-WR-CALDESC:Eventos para Radio Comercio
REFRESH-INTERVAL;VALUE=DURATION:PT1H
X-Robots-Tag:noindex
X-PUBLISHED-TTL:PT1H
BEGIN:VTIMEZONE
TZID:UTC
BEGIN:STANDARD
TZOFFSETFROM:+0000
TZOFFSETTO:+0000
TZNAME:UTC
DTSTART:20250101T000000
END:STANDARD
END:VTIMEZONE
BEGIN:VEVENT
DTSTART;TZID=UTC:20260425T080000
DTEND;TZID=UTC:20260427T170000
DTSTAMP:20260420T063118
CREATED:20260419T082521Z
LAST-MODIFIED:20260419T083328Z
UID:2538-1777104000-1777309200@radiocomercio.com
SUMMARY:Fiestas de Moros y Cristianos Alcoy
DESCRIPTION:Las Fiestas de Moros y Cristianos de Alcoy 2026\, declaradas de Interés Turístico Internacional\, se celebrarán del 25 al 27 de abril de 2026 (sábado a lunes) en honor a San Jorge. Esta trilogía festera conmemora las batallas históricas con desfiles espectaculares (Entradas)\, la Diana Infantil y el día del patrón\, siendo una de las tradiciones más importantes de la Comunidad Valenciana \n \nVisitas: 2
URL:https://radiocomercio.com/evento/fiestas-de-moros-y-cristianos-alcoy
CATEGORIES:Fiestas
ATTACH;FMTTYPE=image/jpeg:https://radiocomercio.com/wp-content/uploads/2026/04/entrada-fiestas-moros-cristianos.jpg
END:VEVENT
BEGIN:VEVENT
DTSTART;TZID=UTC:20260525T080000
DTEND;TZID=UTC:20260525T210000
DTSTAMP:20260420T063118
CREATED:20260419T170829Z
LAST-MODIFIED:20260419T170829Z
UID:2557-1779696000-1779742800@radiocomercio.com
SUMMARY:Romería de las Santas Alodía y Nunilón
DESCRIPTION:Las poblaciones de Huéscar y Puebla de don Fadrique comparten su devoción por las santas Alodía y Nunilón\, que tiene su punto culmen el lunes siguiente al Domingo de Pentecostés\, normalmente en mayo\, con una gran romería a la Ermita situada al pie de la Sierra de la Sagra. Los días anteriores a la romería\, siempre en fin de semana\, se celebran verbenas\, desfile de carrozas\, elección de la reina de las fiestas\, bailes regionales y otras actividades. \nEl culto a las santas mártires Nunilón y Alodía surge en esta tierra granadina a final del siglo XVI. Partió de Navarra y arraigó en Puebla de don Fadrique y la vecina Huéscar\, poblaciones de las que son patronas. Después de la pacífica toma de Huéscar por los Reyes Católicos y tras las capitulaciones concertadas con su alcalde\, Suleiman al-Galib\, Huéscar y su término\, al que pertenecía el lugar de la Bolteruela\, hoy Puebla de Don Fadrique\, quedaría como pueblo realengo y propiedad de la Corona de Castilla. \nSegún la tradición\, estas santas de padre musulmán y madre cristiana murieron mártires por preservar su fe cristiana. \n \nVisitas: 2
URL:https://radiocomercio.com/evento/romeria-de-las-santas-alodia-y-nunilon
ATTACH;FMTTYPE=image/jpeg:https://cdn.dipgra.es/my-media-files-bucket/images/c9AiQoqCEyPQvrJqwNKfvXZsEKX7.2e16d0ba.fill-1250x900-c100.jpg
END:VEVENT
BEGIN:VEVENT
DTSTART;TZID=UTC:20261005T080000
DTEND;TZID=UTC:20261005T170000
DTSTAMP:20260420T063118
CREATED:20260419T172431Z
LAST-MODIFIED:20260419T174045Z
UID:2560-1791187200-1791219600@radiocomercio.com
SUMMARY:5 octubre BENIDORM Romería de las Santas Alodía y Nunilón
DESCRIPTION:En Benidorm se celebrara el 5 de octubre 2026 \nRomería de las Santas Alodía y Nunilón\n  \n📍 ¿QUÉ SE HACE EN BENIDORM CON LAS SANTAS ALODÍA Y NUNILÓN?\nEn Benidorm no es una fiesta oficial del calendario local\, pero sí existe una celebración muy viva gracias a la gente procedente de Huéscar y Puebla de Don Fadrique (Granada) que vive aquí. \n👉 Es una tradición importada por emigrantes granadinos\, que han traído su devoción y la mantienen encendida en la ciudad. \n\n🎉 ¿CÓMO SE CELEBRA AQUÍ?\nAunque no tiene un formato tan institucional como en Granada\, en Benidorm suele vivirse de forma muy cercana y comunitaria: \n🙏 Actos habituales\n\nEncuentros y convivencias entre vecinos y familias originarias de esas localidades\nComidas populares (muy en la línea de las peñas… ambiente familiar\, risas y reencuentros)\nEn algunos casos\, actos religiosos o reuniones simbólicas en honor a las Santas\nMúsica\, recuerdos y ese “volver a casa sin salir de Benidorm”\n\n❤️ El verdadero significado\nNo es tanto una gran fiesta organizada…\nes algo mucho más potente: \n👉 un vínculo emocional con la tierra de origen\n👉 una forma de decir: “no olvidamos de dónde venimos” \n\n🏛️ ¿DE DÓNDE VIENE TODO ESTO?\nEn Huéscar y Puebla de Don Fadrique\, las Santas Alodía y Nunilón son patronas y se celebran con gran intensidad\, incluso con romerías y fiestas locales muy arraigadas (BOE) \nEsa devoción ha viajado con las personas\, y en lugares como Benidorm… ha echado nuevas raíces. \n\nBenidorm también tiene memoria…\ny hay días que no aparecen en los carteles… pero sí en el corazón de la gente. \nEl 5 de octubre no es una fiesta cualquiera…\nes el día en el que muchos vecinos miran hacia Huéscar\, hacia la Puebla de Don Fadrique…\ny convierten Benidorm en un pedacito de su tierra. \nAquí no hay grandes escenarios…\npero hay mesas llenas\, abrazos largos\ny conversaciones que empiezan con un “¿te acuerdas…?” \nPorque esta celebración no se anuncia…\nse siente. \n👉 Es la fiesta de quienes no olvidan\n👉 de quienes mantienen viva su historia\n👉 de quienes convierten Benidorm en un cruce de culturas y raíces \nY ese día…\nno se viene a mirar. \nSe viene a participar.\nA compartir.\nA ser parte de algo que no se ve… pero se vive. \n  \n \n \n \n \n \n \nVisitas: 2
URL:https://radiocomercio.com/evento/benidorm-romeria-de-las-santas-alodia-y-nunilon
ATTACH;FMTTYPE=image/jpeg:https://cdn.dipgra.es/my-media-files-bucket/images/BHhHX4niEugr7JUSwmm2aq9mHRb4.2e16d0ba.fill-1250x900-c100.jpg
END:VEVENT
END:VCALENDAR