BEGIN:VCALENDAR
VERSION:2.0
PRODID:-//Radio Comercio - ECPv6.15.20//NONSGML v1.0//EN
CALSCALE:GREGORIAN
METHOD:PUBLISH
X-ORIGINAL-URL:https://radiocomercio.com
X-WR-CALDESC:Eventos para Radio Comercio
REFRESH-INTERVAL;VALUE=DURATION:PT1H
X-Robots-Tag:noindex
X-PUBLISHED-TTL:PT1H
BEGIN:VTIMEZONE
TZID:UTC
BEGIN:STANDARD
TZOFFSETFROM:+0000
TZOFFSETTO:+0000
TZNAME:UTC
DTSTART:20250101T000000
END:STANDARD
END:VTIMEZONE
BEGIN:VEVENT
DTSTART;TZID=UTC:20260419T103000
DTEND;TZID=UTC:20260419T200000
DTSTAMP:20260420T062353
CREATED:20260419T084033Z
LAST-MODIFIED:20260419T084921Z
UID:2542-1776594600-1776628800@radiocomercio.com
SUMMARY:BENIDORM SE REÚNE EN FE Y HERMANDAD: LA CONVIVENCIA PARROQUIAL DE LA ALMUDENA 2026
DESCRIPTION:Benidorm se prepara para vivir una jornada donde el tiempo se detiene y el alma toma protagonismo. Este próximo domingo 19 de abril de 2026\, la comunidad cristiana tiene una cita muy especial en la Pinada de Mercasa\, donde la Parroquia de Nuestra Señora de la Almudena celebrará su esperada convivencia parroquial. \nUna jornada donde no solo se comparte mesa… sino también fe\, esperanza y amor. \nHORARIO\n10:30h. Comienzo y acogida\n11:15h. Talleres y reunión\n12:15h. Gran ginkana familiar\n13:15h. Actuaciones grupos\n14:00h. Comida\n15:00h. Concurso de postres\n15:15h. Torneo de juegos de mesa\n16:30h. Actuaciones\n17:15h. Ensayo de cantos\n17:30h. Misa de campaña\n18:30h. Fin de la convivencia \n\n UN ENCUENTRO PARA EL ALMA\nDesde primeras horas de la mañana\, los fieles serán acogidos en un ambiente de fraternidad que recuerda a las primeras comunidades cristianas: unidos\, sencillos y con el corazón abierto. \nEl programa\, cargado de actividades para todas las edades\, se convierte en un verdadero camino espiritual: \n\nAcogida y bienvenida para todos los asistentes\nTalleres y momentos de reflexión compartida\nGran gincana familiar donde la alegría se convierte en lenguaje común\nActuaciones que elevan el espíritu\nComida de hermandad\, símbolo de unión\nConcurso de postres\, donde la dulzura también se comparte\nEnsayo de cantos\, preparando el momento más sagrado del día\n\nY como culmen de esta jornada… \n\n LA EUCARISTÍA AL AIRE LIBRE\nA las 17:30 horas\, en plena naturaleza\, tendrá lugar la Misa de Campaña\, un momento donde el cielo parece acercarse a la tierra. \nBajo los pinos\, con el susurro del viento como acompañamiento y el canto de la comunidad como oración viva\, se celebrará la Eucaristía\, recordando que la fe no necesita muros… solo corazones dispuestos. \nTal y como refleja el programa oficial \, este será el instante central de una jornada pensada para reconectar con lo esencial. \n\n MÁS QUE UNA CONVIVENCIA\, UNA FAMILIA\nEsta convivencia no es solo un evento… es un reencuentro con lo que verdaderamente importa. \nEs mirar al que tienes al lado y reconocer a un hermano.\nEs compartir pan\, risas y también silencios llenos de significado.\nEs recordar que la fe no se vive en soledad\, sino en comunidad. \n\n UNA INVITACIÓN ABIERTA\nDesde la Parroquia de la Almudena se invita a todos los vecinos de Benidorm\, familias\, jóvenes y mayores\, a participar en esta jornada única. \nPorque en un mundo que corre sin parar\, hay momentos que nos invitan a detenernos… respirar… y volver a lo esencial. \n\n TEXTO (muy importante)\n “UN DÍA PARA EL ALMA”\n “CONVIVENCIA PARROQUIAL 2026” \nVisitas: 2
URL:https://radiocomercio.com/evento/benidorm-se-reune-en-fe-y-hermandad-la-convivencia-parroquial-de-la-almudena-2026
LOCATION:Pinada Mercasa\, Benidorm\, Alicante\, 03502\, Spain
ATTACH;FMTTYPE=image/png:https://radiocomercio.com/wp-content/uploads/2026/04/convivencias-200.png
END:VEVENT
END:VCALENDAR