BEGIN:VCALENDAR
VERSION:2.0
PRODID:-//Radio Comercio - ECPv6.15.20//NONSGML v1.0//EN
CALSCALE:GREGORIAN
METHOD:PUBLISH
X-ORIGINAL-URL:https://radiocomercio.com
X-WR-CALDESC:Eventos para Radio Comercio
REFRESH-INTERVAL;VALUE=DURATION:PT1H
X-Robots-Tag:noindex
X-PUBLISHED-TTL:PT1H
BEGIN:VTIMEZONE
TZID:UTC
BEGIN:STANDARD
TZOFFSETFROM:+0000
TZOFFSETTO:+0000
TZNAME:UTC
DTSTART:20250101T000000
END:STANDARD
END:VTIMEZONE
BEGIN:VEVENT
DTSTART;TZID=UTC:20260424T183000
DTEND;TZID=UTC:20260426T170000
DTSTAMP:20260420T063451
CREATED:20260419T090935Z
LAST-MODIFIED:20260419T091823Z
UID:2546-1777055400-1777222800@radiocomercio.com
SUMMARY:ACAMPADA PENYAS MIG ANY BENIDORM
DESCRIPTION:🎉 BENIDORM SE VA DE ACAMPADA: LLEGA EL MIG ANY MÁS CANALLA Y FESTERO DEL AÑO\nBenidorm ya huele a fiesta… pero no a una cualquiera. Huele a convivencia\, a risas\, a paellas improvisadas y a guitarras que suenan cuando cae el sol. Porque este viernes\, sábado y domingo (24\, 25 y 26 de abril) la ciudad se transforma en un auténtico campamento festero con la esperada Acampada del Medio Año de las Peñas en honor a la Virgen del Sufragio. \nMás de 5.000 peñistas están llamados a tomar el recinto de la Vía Parque\, convirtiéndolo en una pequeña ciudad donde lo importante no es el wifi… sino el buen rollo. \nAquí no hay prisas\, ni relojes… solo amigos\, familias y peñas que se reúnen para recordar que en Benidorm la fiesta no se mide en días… se mide en emociones. \n🏕️ UN FIN DE SEMANA PARA VIVIRLO (Y CONTARLO… O NO)\nDurante tres días\, la Associació de Penyes “Verge del Sofratge” reúne a cientos de grupos festeros en una convivencia que es mucho más que una acampada:\nes un ritual sagrado de la diversión. \nHabrá: \n\nMúsica que se cuela en el alma 🎶\nJuegos para los más pequeños (y para los no tan pequeños)\nComidas compartidas que saben mejor cuando se cocinan entre amigos\nY ese arte tan nuestro de convertir cualquier momento en una fiesta\n\nTodo ello con un único objetivo: celebrar juntos que falta menos para las grandes Fiestas Mayores Patronales y seguir alimentando esa hermandad que define a las peñas. \n🍻 LA FIESTA QUE UNE GENERACIONES\nPorque aquí caben todos:\nlos que llevan décadas en su peña…\nlos que acaban de llegar…\ny los que dicen “yo solo venía a ver” y terminan bailando hasta el amanecer. \nLa acampada es ese lugar donde: \n\nLos niños corren libres\nLos mayores cuentan batallitas\nY todos acaban cantando la misma canción\n\nhttps://ibb.co/kgQPpypP\n\n💃 BENIDORM\, CAPITAL DE LA CONVIVENCIA\nEn una ciudad donde la fiesta es casi un idioma\, esta acampada se ha convertido en una de las citas más multitudinarias del calendario festero\, demostrando que las peñas son el verdadero corazón de Benidorm. \nPorque si algo está claro…\nes que cuando las peñas se juntan\, Benidorm no duerme…\nBenidorm vibra. \n\n🎙️ Y ATENCIÓN…\nPrepárense porque esto no es solo una acampada…\nes el ensayo general de la felicidad. \nAsí que ya lo sabes:\nsi escuchas risas\, música y olor a comida casera…\nno es casualidad… \n👉 es la Acampada del Medio Año de las Peñas… y estás invitado a sentirla. \nVisitas: 2
URL:https://radiocomercio.com/evento/acampada-penyas-mig-any-benidorm
ATTACH;FMTTYPE=image/jpeg:https://estaticos-cdn.prensaiberica.es/clip/237de5de-d96e-4c74-99a5-b709e4ad8a38_16-9-discover-aspect-ratio_default_0.jpg
END:VEVENT
END:VCALENDAR